BEGIN:VCALENDAR
VERSION:2.0
PRODID:-//Spirituelle Mentorin für wahres Fühlen &amp; Erwachen - Simone Bastian - ECPv6.15.20//NONSGML v1.0//EN
CALSCALE:GREGORIAN
METHOD:PUBLISH
X-ORIGINAL-URL:https://simone-bastian.de
X-WR-CALDESC:Veranstaltungen für Spirituelle Mentorin für wahres Fühlen &amp; Erwachen - Simone Bastian
REFRESH-INTERVAL;VALUE=DURATION:PT1H
X-Robots-Tag:noindex
X-PUBLISHED-TTL:PT1H
BEGIN:VTIMEZONE
TZID:Europe/Berlin
BEGIN:DAYLIGHT
TZOFFSETFROM:+0100
TZOFFSETTO:+0200
TZNAME:CEST
DTSTART:20250330T010000
END:DAYLIGHT
BEGIN:STANDARD
TZOFFSETFROM:+0200
TZOFFSETTO:+0100
TZNAME:CET
DTSTART:20251026T010000
END:STANDARD
BEGIN:DAYLIGHT
TZOFFSETFROM:+0100
TZOFFSETTO:+0200
TZNAME:CEST
DTSTART:20260329T010000
END:DAYLIGHT
BEGIN:STANDARD
TZOFFSETFROM:+0200
TZOFFSETTO:+0100
TZNAME:CET
DTSTART:20261025T010000
END:STANDARD
BEGIN:DAYLIGHT
TZOFFSETFROM:+0100
TZOFFSETTO:+0200
TZNAME:CEST
DTSTART:20270328T010000
END:DAYLIGHT
BEGIN:STANDARD
TZOFFSETFROM:+0200
TZOFFSETTO:+0100
TZNAME:CET
DTSTART:20271031T010000
END:STANDARD
END:VTIMEZONE
BEGIN:VEVENT
DTSTART;TZID=Europe/Berlin:20261117T190000
DTEND;TZID=Europe/Berlin:20261117T210000
DTSTAMP:20260424T090306
CREATED:20260424T054455Z
LAST-MODIFIED:20260424T054455Z
UID:12581-1794942000-1794949200@simone-bastian.de
SUMMARY:Raum der Stille - online Bewusstheitsgruppe
DESCRIPTION:Raum der Stille – Online Bewusstheitsgruppe\nBewusstheitsgruppe online · spirituelle Praxis · innerer Frieden · wahres Fühlen \nDie Online-Bewusstheitsgruppe „Raum der Stille“ ist ein regelmäßiger\, geschützter Raum für Menschen\, die tiefer fühlen\, loslassen und in die innere Stille zurückfinden möchten – jenseits von Konzepten und Methoden. \nIm Raum der Stille lernst du\, ganz im Moment anzukommen und dich dem hinzugeben\, was jetzt in dir lebendig ist.Durch geführte Bewusstheitsübungen\, stilles Verweilen und fühlende Präsenz öffnet sich ein Raum\, in dem emotionale Spannungen weich werden und innere Ruhe ganz natürlich entstehen kann. \nDiese Gruppe ist offen für Menschen mit und ohne Vorerfahrung in spiritueller oder bewusster innerer Arbeit. \nDas erwartet dich: \n\n\nTieferes Wahrnehmen und wahres Fühlen ohne Druck \n\n\nLoslassen von innerem Stress\, Kontrolle und Anspannung \n\n\nRückkehr in innere Stille und Klarheit \n\n\nVerbindung im Feld bewusster Präsenz – auch online spürbar \n\n\nBegleitung durch Simone Bastian in einem sicheren\, ruhigen Raum \n\n\nOrganisatorisches:Online per Zoom –  link siehe unten\nDauer: ca. 2 StundenEnergieausgleich: 30 € pro Termin \nDen Ausgleich kannst Du mir direkt über diesen Link per Paypal senden: https://www.paypal.com/paypalme/WegezurStille \nAnmeldung und Treffen\nDie Online Bewusstheitsgruppe  trifft sich 2x im Monat dienstags um 19:00 Uhr per Zoom. Die Teilnahme erfordert keine Anmeldung oder Vorkenntnisse – jeder\, der sich auf eine Reise der inneren Erkundung begeben möchte\, ist herzlich willkommen. \nHier findest Du den Link zum Zoom Meeting: https://us02web.zoom.us/j/88222511223 \nGerne kannst Du auch meinem Telegram Kanal beitreten\, hier bleibst Du immer auf dem Laufenden:\nhttps://t.me/WegezurStille \nWillst Du lieber per E-Mail Informationen erhalten\, dann trag´dich am besten in den Newsletter ein:\nhttps://simone-bastian.de/#newsletter
URL:https://simone-bastian.de/termine/raum-der-stille-online-bewusstheitsgruppe-19/
CATEGORIES:Bewusstheitsgruppe,Online Termine
ATTACH;FMTTYPE=image/jpeg:https://simone-bastian.de/wp-content/uploads/2025/07/Termine-Bewusstheitsgruppe-Webseite.jpg
END:VEVENT
BEGIN:VEVENT
DTSTART;TZID=Europe/Berlin:20261127T180000
DTEND;TZID=Europe/Berlin:20261127T210000
DTSTAMP:20260424T090306
CREATED:20260424T053318Z
LAST-MODIFIED:20260424T053318Z
UID:12555-1795802400-1795813200@simone-bastian.de
SUMMARY:Raum der Stille Köln - Bewusstheitsgruppe
DESCRIPTION:Raum der Stille – Live Bewusstheitsgruppe in Köln\nBewusstheitsgruppe Köln · spirituelle Gruppenarbeit · innere Stille · bewusstes Erwachen \nDie Live-Bewusstheitsgruppe „Raum der Stille“ in Köln ist ein intensiver Präsenzraum für Menschen\, die sich nach Tiefe\, Wahrhaftigkeit und innerem Frieden sehnen. \nIn der Live-Gruppe vertieft sich die Arbeit durch die gemeinsame Präsenz im Raum.Wir folgen keinem festen Konzept\, sondern dem\, was sich im Moment zeigen möchte – über Fühlen\, Stille\, bewusste Körperwahrnehmung und echtes Dasein. \nDiese Gruppe eignet sich besonders für Menschen\, die ihre spirituelle Praxis verkörpern und den Weg des Erwachens im Miteinander erforschen möchten. \nDas erwartet dich: \n\n\nTiefe Präsenzarbeit in der Gruppe \n\n\nRaum für Gefühle\, Stille und innere Prozesse \n\n\nLösung emotionaler Blockaden durch bewusstes Fühlen \n\n\nErdung\, Klarheit und innere Sicherheit \n\n\nAuthentische Begegnung im geschützten Rahmen \n\n\nOrganisatorisches:📍 Live in Köln⏳ Dauer: ca. 3 Stunden💶 Energieausgleich: 40 € pro Termin \nGerne kannst Du auch meinem Telegram Kanal beitreten\, hier bleibst Du immer auf dem Laufenden:\nhttps://t.me/WegezurStille \nWillst Du lieber per E-Mail Informationen erhalten\, dann trag dich am besten in den Newsletter ein:\nhttps://simone-bastian.de/#newsletter
URL:https://simone-bastian.de/termine/raum-der-stille-koeln-bewusstheitsgruppe-6/
CATEGORIES:Bewusstheitsgruppe,Köln
ATTACH;FMTTYPE=image/jpeg:https://simone-bastian.de/wp-content/uploads/2025/12/Alma-Calma.jpg
END:VEVENT
BEGIN:VEVENT
DTSTART;TZID=Europe/Berlin:20261201T190000
DTEND;TZID=Europe/Berlin:20261201T210000
DTSTAMP:20260424T090306
CREATED:20260424T054605Z
LAST-MODIFIED:20260424T054605Z
UID:12585-1796151600-1796158800@simone-bastian.de
SUMMARY:Raum der Stille - online Bewusstheitsgruppe
DESCRIPTION:Raum der Stille – Online Bewusstheitsgruppe\nBewusstheitsgruppe online · spirituelle Praxis · innerer Frieden · wahres Fühlen \nDie Online-Bewusstheitsgruppe „Raum der Stille“ ist ein regelmäßiger\, geschützter Raum für Menschen\, die tiefer fühlen\, loslassen und in die innere Stille zurückfinden möchten – jenseits von Konzepten und Methoden. \nIm Raum der Stille lernst du\, ganz im Moment anzukommen und dich dem hinzugeben\, was jetzt in dir lebendig ist.Durch geführte Bewusstheitsübungen\, stilles Verweilen und fühlende Präsenz öffnet sich ein Raum\, in dem emotionale Spannungen weich werden und innere Ruhe ganz natürlich entstehen kann. \nDiese Gruppe ist offen für Menschen mit und ohne Vorerfahrung in spiritueller oder bewusster innerer Arbeit. \nDas erwartet dich: \n\n\nTieferes Wahrnehmen und wahres Fühlen ohne Druck \n\n\nLoslassen von innerem Stress\, Kontrolle und Anspannung \n\n\nRückkehr in innere Stille und Klarheit \n\n\nVerbindung im Feld bewusster Präsenz – auch online spürbar \n\n\nBegleitung durch Simone Bastian in einem sicheren\, ruhigen Raum \n\n\nOrganisatorisches:Online per Zoom –  link siehe unten\nDauer: ca. 2 StundenEnergieausgleich: 30 € pro Termin \nDen Ausgleich kannst Du mir direkt über diesen Link per Paypal senden: https://www.paypal.com/paypalme/WegezurStille \nAnmeldung und Treffen\nDie Online Bewusstheitsgruppe  trifft sich 2x im Monat dienstags um 19:00 Uhr per Zoom. Die Teilnahme erfordert keine Anmeldung oder Vorkenntnisse – jeder\, der sich auf eine Reise der inneren Erkundung begeben möchte\, ist herzlich willkommen. \nHier findest Du den Link zum Zoom Meeting: https://us02web.zoom.us/j/88222511223 \nGerne kannst Du auch meinem Telegram Kanal beitreten\, hier bleibst Du immer auf dem Laufenden:\nhttps://t.me/WegezurStille \nWillst Du lieber per E-Mail Informationen erhalten\, dann trag´dich am besten in den Newsletter ein:\nhttps://simone-bastian.de/#newsletter
URL:https://simone-bastian.de/termine/raum-der-stille-online-bewusstheitsgruppe-20/
CATEGORIES:Bewusstheitsgruppe,Online Termine
ATTACH;FMTTYPE=image/jpeg:https://simone-bastian.de/wp-content/uploads/2025/07/Termine-Bewusstheitsgruppe-Webseite.jpg
END:VEVENT
BEGIN:VEVENT
DTSTART;TZID=Europe/Berlin:20261211T180000
DTEND;TZID=Europe/Berlin:20261211T210000
DTSTAMP:20260424T090306
CREATED:20260424T053345Z
LAST-MODIFIED:20260424T053345Z
UID:12557-1797012000-1797022800@simone-bastian.de
SUMMARY:Raum der Stille Köln - Bewusstheitsgruppe
DESCRIPTION:Raum der Stille – Live Bewusstheitsgruppe in Köln\nBewusstheitsgruppe Köln · spirituelle Gruppenarbeit · innere Stille · bewusstes Erwachen \nDie Live-Bewusstheitsgruppe „Raum der Stille“ in Köln ist ein intensiver Präsenzraum für Menschen\, die sich nach Tiefe\, Wahrhaftigkeit und innerem Frieden sehnen. \nIn der Live-Gruppe vertieft sich die Arbeit durch die gemeinsame Präsenz im Raum.Wir folgen keinem festen Konzept\, sondern dem\, was sich im Moment zeigen möchte – über Fühlen\, Stille\, bewusste Körperwahrnehmung und echtes Dasein. \nDiese Gruppe eignet sich besonders für Menschen\, die ihre spirituelle Praxis verkörpern und den Weg des Erwachens im Miteinander erforschen möchten. \nDas erwartet dich: \n\n\nTiefe Präsenzarbeit in der Gruppe \n\n\nRaum für Gefühle\, Stille und innere Prozesse \n\n\nLösung emotionaler Blockaden durch bewusstes Fühlen \n\n\nErdung\, Klarheit und innere Sicherheit \n\n\nAuthentische Begegnung im geschützten Rahmen \n\n\nOrganisatorisches:📍 Live in Köln⏳ Dauer: ca. 3 Stunden💶 Energieausgleich: 40 € pro Termin \nGerne kannst Du auch meinem Telegram Kanal beitreten\, hier bleibst Du immer auf dem Laufenden:\nhttps://t.me/WegezurStille \nWillst Du lieber per E-Mail Informationen erhalten\, dann trag dich am besten in den Newsletter ein:\nhttps://simone-bastian.de/#newsletter
URL:https://simone-bastian.de/termine/raum-der-stille-koeln-bewusstheitsgruppe-7/
CATEGORIES:Bewusstheitsgruppe,Köln
ATTACH;FMTTYPE=image/jpeg:https://simone-bastian.de/wp-content/uploads/2025/12/Alma-Calma.jpg
END:VEVENT
BEGIN:VEVENT
DTSTART;TZID=Europe/Berlin:20261215T190000
DTEND;TZID=Europe/Berlin:20261215T210000
DTSTAMP:20260424T090306
CREATED:20260424T054631Z
LAST-MODIFIED:20260424T054631Z
UID:12593-1797361200-1797368400@simone-bastian.de
SUMMARY:Raum der Stille - online Bewusstheitsgruppe
DESCRIPTION:Raum der Stille – Online Bewusstheitsgruppe\nBewusstheitsgruppe online · spirituelle Praxis · innerer Frieden · wahres Fühlen \nDie Online-Bewusstheitsgruppe „Raum der Stille“ ist ein regelmäßiger\, geschützter Raum für Menschen\, die tiefer fühlen\, loslassen und in die innere Stille zurückfinden möchten – jenseits von Konzepten und Methoden. \nIm Raum der Stille lernst du\, ganz im Moment anzukommen und dich dem hinzugeben\, was jetzt in dir lebendig ist.Durch geführte Bewusstheitsübungen\, stilles Verweilen und fühlende Präsenz öffnet sich ein Raum\, in dem emotionale Spannungen weich werden und innere Ruhe ganz natürlich entstehen kann. \nDiese Gruppe ist offen für Menschen mit und ohne Vorerfahrung in spiritueller oder bewusster innerer Arbeit. \nDas erwartet dich: \n\n\nTieferes Wahrnehmen und wahres Fühlen ohne Druck \n\n\nLoslassen von innerem Stress\, Kontrolle und Anspannung \n\n\nRückkehr in innere Stille und Klarheit \n\n\nVerbindung im Feld bewusster Präsenz – auch online spürbar \n\n\nBegleitung durch Simone Bastian in einem sicheren\, ruhigen Raum \n\n\nOrganisatorisches:Online per Zoom –  link siehe unten\nDauer: ca. 2 StundenEnergieausgleich: 30 € pro Termin \nDen Ausgleich kannst Du mir direkt über diesen Link per Paypal senden: https://www.paypal.com/paypalme/WegezurStille \nAnmeldung und Treffen\nDie Online Bewusstheitsgruppe  trifft sich 2x im Monat dienstags um 19:00 Uhr per Zoom. Die Teilnahme erfordert keine Anmeldung oder Vorkenntnisse – jeder\, der sich auf eine Reise der inneren Erkundung begeben möchte\, ist herzlich willkommen. \nHier findest Du den Link zum Zoom Meeting: https://us02web.zoom.us/j/88222511223 \nGerne kannst Du auch meinem Telegram Kanal beitreten\, hier bleibst Du immer auf dem Laufenden:\nhttps://t.me/WegezurStille \nWillst Du lieber per E-Mail Informationen erhalten\, dann trag´dich am besten in den Newsletter ein:\nhttps://simone-bastian.de/#newsletter
URL:https://simone-bastian.de/termine/raum-der-stille-online-bewusstheitsgruppe-21/
CATEGORIES:Bewusstheitsgruppe,Online Termine
ATTACH;FMTTYPE=image/jpeg:https://simone-bastian.de/wp-content/uploads/2025/07/Termine-Bewusstheitsgruppe-Webseite.jpg
END:VEVENT
END:VCALENDAR