BEGIN:VCALENDAR
VERSION:2.0
PRODID:-//Spirituelle Mentorin für wahres Fühlen &amp; Erwachen - Simone Bastian - ECPv6.15.20//NONSGML v1.0//EN
CALSCALE:GREGORIAN
METHOD:PUBLISH
X-ORIGINAL-URL:https://simone-bastian.de
X-WR-CALDESC:Veranstaltungen für Spirituelle Mentorin für wahres Fühlen &amp; Erwachen - Simone Bastian
REFRESH-INTERVAL;VALUE=DURATION:PT1H
X-Robots-Tag:noindex
X-PUBLISHED-TTL:PT1H
BEGIN:VTIMEZONE
TZID:Europe/Berlin
BEGIN:DAYLIGHT
TZOFFSETFROM:+0100
TZOFFSETTO:+0200
TZNAME:CEST
DTSTART:20240331T010000
END:DAYLIGHT
BEGIN:STANDARD
TZOFFSETFROM:+0200
TZOFFSETTO:+0100
TZNAME:CET
DTSTART:20241027T010000
END:STANDARD
BEGIN:DAYLIGHT
TZOFFSETFROM:+0100
TZOFFSETTO:+0200
TZNAME:CEST
DTSTART:20250330T010000
END:DAYLIGHT
BEGIN:STANDARD
TZOFFSETFROM:+0200
TZOFFSETTO:+0100
TZNAME:CET
DTSTART:20251026T010000
END:STANDARD
BEGIN:DAYLIGHT
TZOFFSETFROM:+0100
TZOFFSETTO:+0200
TZNAME:CEST
DTSTART:20260329T010000
END:DAYLIGHT
BEGIN:STANDARD
TZOFFSETFROM:+0200
TZOFFSETTO:+0100
TZNAME:CET
DTSTART:20261025T010000
END:STANDARD
END:VTIMEZONE
BEGIN:VEVENT
DTSTART;TZID=Europe/Berlin:20251212T183000
DTEND;TZID=Europe/Berlin:20251212T213000
DTSTAMP:20260424T160308
CREATED:20250209T214529Z
LAST-MODIFIED:20250209T214529Z
UID:10896-1765564200-1765575000@simone-bastian.de
SUMMARY:Live-Bewusstheitsgruppe Köln
DESCRIPTION:[vc_row height=“auto“][vc_column width=“1/1″][vc_column_text] \nLive Bewusstheitsgruppe nach Christian Meyer\n– Erlebe inneren Frieden und spirituelles Wachstum – \nGeführte Bewusstheitsübungen mit Simone Bastian\, Mentorin am Karen Horney-Institut\, Berlin – für mehr Lebendigkeit\, Stille  und emotionale Heilung. Wöchentlich per Zoom. \n✅ Stress und emotionale Blockaden lösen \n✅ Tieferes Bewusstsein und Selbstwahrnehmung entwickeln \n✅ Verbindung zu Gleichgesinnten im geschützten Raum \n✅ Miteinander den Weg des Aufwachens erkunden \n✅ 25\,- € für ca. 3 Stunden mit Begleitung von Simone Bastian \nGerne kannst Du auch meinem Telegram Kanal beitreten\, hier bleibst Du immer auf dem Laufenden:\nhttps://t.me/WegezurStille \nWillst Du lieber per E-Mail Informationen erhalten\, dann trag´dich am besten in den Newsletter ein:\nhttps://simone-bastian.de/#newsletter[/vc_column_text][/vc_column][/vc_row]
URL:https://simone-bastian.de/termine/live-bewusstheitsgruppe-koeln-7/
CATEGORIES:Retreat
ATTACH;FMTTYPE=image/jpeg:https://simone-bastian.de/wp-content/uploads/2024/10/Altenberger-Hof-Seminarraum2-658x470-1.jpg
END:VEVENT
END:VCALENDAR