BEGIN:VCALENDAR
VERSION:2.0
PRODID:-//Spirituelle Mentorin für wahres Fühlen &amp; Erwachen - Simone Bastian - ECPv6.15.20//NONSGML v1.0//EN
CALSCALE:GREGORIAN
METHOD:PUBLISH
X-ORIGINAL-URL:https://simone-bastian.de
X-WR-CALDESC:Veranstaltungen für Spirituelle Mentorin für wahres Fühlen &amp; Erwachen - Simone Bastian
REFRESH-INTERVAL;VALUE=DURATION:PT1H
X-Robots-Tag:noindex
X-PUBLISHED-TTL:PT1H
BEGIN:VTIMEZONE
TZID:Europe/Berlin
BEGIN:DAYLIGHT
TZOFFSETFROM:+0100
TZOFFSETTO:+0200
TZNAME:CEST
DTSTART:20250330T010000
END:DAYLIGHT
BEGIN:STANDARD
TZOFFSETFROM:+0200
TZOFFSETTO:+0100
TZNAME:CET
DTSTART:20251026T010000
END:STANDARD
BEGIN:DAYLIGHT
TZOFFSETFROM:+0100
TZOFFSETTO:+0200
TZNAME:CEST
DTSTART:20260329T010000
END:DAYLIGHT
BEGIN:STANDARD
TZOFFSETFROM:+0200
TZOFFSETTO:+0100
TZNAME:CET
DTSTART:20261025T010000
END:STANDARD
BEGIN:DAYLIGHT
TZOFFSETFROM:+0100
TZOFFSETTO:+0200
TZNAME:CEST
DTSTART:20270328T010000
END:DAYLIGHT
BEGIN:STANDARD
TZOFFSETFROM:+0200
TZOFFSETTO:+0100
TZNAME:CET
DTSTART:20271031T010000
END:STANDARD
END:VTIMEZONE
BEGIN:VEVENT
DTSTART;TZID=Europe/Berlin:20260211T193000
DTEND;TZID=Europe/Berlin:20260211T210000
DTSTAMP:20260423T072207
CREATED:20260203T170608Z
LAST-MODIFIED:20260203T170758Z
UID:12441-1770838200-1770843600@simone-bastian.de
SUMMARY:Kostenfreier Online-Infoabend zur Heimkommen-Gruppe ab März
DESCRIPTION:  \n  \n  \n\n\n\n\n\n\n\n\n\n\n\nErlebe\, wie es sich anfühlt\, deine eigene innere Warheit wieder ernster zu nehmen. Du bekommst ein erstes\, sehr konkretes Gefühl dafür\, wie Wahrhaftigkeit im Körper spürbar wird. \nMehr Klarheit für echte Entscheidungen\nDu nimmst einen inneren Impuls mit\, der dir hilft\, in den nächsten Tagen eine  stimmige Grenze zu setzen oder ein klares Nein zu fühlen. \n\nSpirituell wachsen – ohne dich vom Leben abzukoppeln\n\n\nDu bekommst einen neuen Zugang dazu\,wie du deinem spirituellen Weg folgen kannst\, ohne dir selbst auszuweichen. \n\nFür wen dieser Info-Abend genau richtig ist\n\nwenn du spirituell wachsen möchtest\, ohne dich vom irdischen Leben zu entkoppeln\n\nwenn du bereit bist\, dir selbst ehrlich zu begegnen und deiner eigenen Wahrheit zu folgen\nwenn du müde bist\, immer neuen Methoden\, Konzepten oder Impulsen hinterherzurennen
URL:https://simone-bastian.de/termine/kostenfreier-online-infoabend-zur-heimkommen-gruppe-ab-maerz/
LOCATION:Online via Zoom
CATEGORIES:Jahresgruppe,Online Termine
ATTACH;FMTTYPE=image/jpeg:https://simone-bastian.de/wp-content/uploads/2025/07/Heimkommen-Gruppe-scaled-1.jpg
END:VEVENT
END:VCALENDAR