BEGIN:VCALENDAR
VERSION:2.0
PRODID:-//Spirituelle Mentorin für wahres Fühlen &amp; Erwachen - Simone Bastian - ECPv6.15.20//NONSGML v1.0//EN
CALSCALE:GREGORIAN
METHOD:PUBLISH
X-WR-CALNAME:Spirituelle Mentorin für wahres Fühlen &amp; Erwachen - Simone Bastian
X-ORIGINAL-URL:https://simone-bastian.de
X-WR-CALDESC:Veranstaltungen für Spirituelle Mentorin für wahres Fühlen &amp; Erwachen - Simone Bastian
REFRESH-INTERVAL;VALUE=DURATION:PT1H
X-Robots-Tag:noindex
X-PUBLISHED-TTL:PT1H
BEGIN:VTIMEZONE
TZID:Europe/Berlin
BEGIN:DAYLIGHT
TZOFFSETFROM:+0100
TZOFFSETTO:+0200
TZNAME:CEST
DTSTART:20250330T010000
END:DAYLIGHT
BEGIN:STANDARD
TZOFFSETFROM:+0200
TZOFFSETTO:+0100
TZNAME:CET
DTSTART:20251026T010000
END:STANDARD
BEGIN:DAYLIGHT
TZOFFSETFROM:+0100
TZOFFSETTO:+0200
TZNAME:CEST
DTSTART:20260329T010000
END:DAYLIGHT
BEGIN:STANDARD
TZOFFSETFROM:+0200
TZOFFSETTO:+0100
TZNAME:CET
DTSTART:20261025T010000
END:STANDARD
BEGIN:DAYLIGHT
TZOFFSETFROM:+0100
TZOFFSETTO:+0200
TZNAME:CEST
DTSTART:20270328T010000
END:DAYLIGHT
BEGIN:STANDARD
TZOFFSETFROM:+0200
TZOFFSETTO:+0100
TZNAME:CET
DTSTART:20271031T010000
END:STANDARD
END:VTIMEZONE
BEGIN:VEVENT
DTSTART;TZID=Europe/Berlin:20260315T110000
DTEND;TZID=Europe/Berlin:20260315T180000
DTSTAMP:20260423T014500
CREATED:20251203T201312Z
LAST-MODIFIED:20260217T095558Z
UID:11817-1773572400-1773597600@simone-bastian.de
SUMMARY:Stilles Familienstellen - live in Köln
DESCRIPTION:Unordnungen innerhalb des Systems\, egal ob Familie oder Beruf\, werden dank des Familienstellens offenkundig und eine heilsame Bewegung wird angestoßen – eine Bewegung hin zu Liebe und Fülle. So werden Versöhnung und Lösung möglich und lassen die Seele wieder aufatmen – die Liebe kann wieder fließen. \nAlte Rollen\, Erwartungen\, Lasten – im Familienstellen werden sie sichtbar und können sich lösen. So kann dein eigenes Potenzial und dein inneres Licht zum Vorschein kommen. \nIch halte einen stillen Raum\, wo alles Platz hat und vor allem deine Gefühle Raum bekommen\, denn das Sich-Berühren-Lassen ist für mich der Schlüssel zu einer wirklich wirksamen Aufstellung – alles vollkommen gesammelt und präsent von der Stille getragen. \nDie Wertschätzung für diesen Tag beträgt 160\,-€.
URL:https://simone-bastian.de/termine/stilles-familienstellen-live-in-koeln/
LOCATION:Alma Calma Köln\, Rochusstr. 27\, Köln\, 50827
CATEGORIES:Familienaufstellung,Köln
ATTACH;FMTTYPE=image/jpeg:https://simone-bastian.de/wp-content/uploads/2025/12/Familienaufstellung-Hipsy.jpg
END:VEVENT
END:VCALENDAR