BEGIN:VCALENDAR
VERSION:2.0
PRODID:-//Spirituelle Mentorin für wahres Fühlen &amp; Erwachen - Simone Bastian - ECPv6.15.20//NONSGML v1.0//EN
CALSCALE:GREGORIAN
METHOD:PUBLISH
X-WR-CALNAME:Spirituelle Mentorin für wahres Fühlen &amp; Erwachen - Simone Bastian
X-ORIGINAL-URL:https://simone-bastian.de
X-WR-CALDESC:Veranstaltungen für Spirituelle Mentorin für wahres Fühlen &amp; Erwachen - Simone Bastian
REFRESH-INTERVAL;VALUE=DURATION:PT1H
X-Robots-Tag:noindex
X-PUBLISHED-TTL:PT1H
BEGIN:VTIMEZONE
TZID:Europe/Berlin
BEGIN:DAYLIGHT
TZOFFSETFROM:+0100
TZOFFSETTO:+0200
TZNAME:CEST
DTSTART:20250330T010000
END:DAYLIGHT
BEGIN:STANDARD
TZOFFSETFROM:+0200
TZOFFSETTO:+0100
TZNAME:CET
DTSTART:20251026T010000
END:STANDARD
BEGIN:DAYLIGHT
TZOFFSETFROM:+0100
TZOFFSETTO:+0200
TZNAME:CEST
DTSTART:20260329T010000
END:DAYLIGHT
BEGIN:STANDARD
TZOFFSETFROM:+0200
TZOFFSETTO:+0100
TZNAME:CET
DTSTART:20261025T010000
END:STANDARD
BEGIN:DAYLIGHT
TZOFFSETFROM:+0100
TZOFFSETTO:+0200
TZNAME:CEST
DTSTART:20270328T010000
END:DAYLIGHT
BEGIN:STANDARD
TZOFFSETFROM:+0200
TZOFFSETTO:+0100
TZNAME:CET
DTSTART:20271031T010000
END:STANDARD
END:VTIMEZONE
BEGIN:VEVENT
DTSTART;TZID=Europe/Berlin:20260510T110000
DTEND;TZID=Europe/Berlin:20260510T180000
DTSTAMP:20260423T024953
CREATED:20251203T201141Z
LAST-MODIFIED:20260308T180331Z
UID:11815-1778410800-1778436000@simone-bastian.de
SUMMARY:Stilles Familienstellen - live in Aachen
DESCRIPTION:[vc_row width=“full“ height=“auto“][vc_column][vc_column_text]Unordnungen innerhalb des Systems\, egal ob Familie oder Beruf\, werden dank des Familienstellens offenkundig und eine heilsame Bewegung wird angestoßen – eine Bewegung hin zu Liebe und Fülle. So werden Versöhnung und Lösung möglich und lassen die Seele wieder aufatmen – die Liebe kann wieder fließen. \n[/vc_column_text][/vc_column][/vc_row][vc_row][vc_column width=“1/1″][us_sharing providers=“email\,facebook\,whatsapp\,telegram“][/vc_column][/vc_row]
URL:https://simone-bastian.de/termine/stilles-familienstellen-live-in-aachen-2/
CATEGORIES:Aachen,Familienaufstellung
ATTACH;FMTTYPE=image/jpeg:https://simone-bastian.de/wp-content/uploads/2025/12/Familienaufstellung-Hipsy.jpg
END:VEVENT
END:VCALENDAR