BEGIN:VCALENDAR
VERSION:2.0
PRODID:-//Spirituelle Mentorin für wahres Fühlen &amp; Erwachen - Simone Bastian - ECPv6.15.20//NONSGML v1.0//EN
CALSCALE:GREGORIAN
METHOD:PUBLISH
X-WR-CALNAME:Spirituelle Mentorin für wahres Fühlen &amp; Erwachen - Simone Bastian
X-ORIGINAL-URL:https://simone-bastian.de
X-WR-CALDESC:Veranstaltungen für Spirituelle Mentorin für wahres Fühlen &amp; Erwachen - Simone Bastian
REFRESH-INTERVAL;VALUE=DURATION:PT1H
X-Robots-Tag:noindex
X-PUBLISHED-TTL:PT1H
BEGIN:VTIMEZONE
TZID:Europe/Berlin
BEGIN:DAYLIGHT
TZOFFSETFROM:+0100
TZOFFSETTO:+0200
TZNAME:CEST
DTSTART:20250330T010000
END:DAYLIGHT
BEGIN:STANDARD
TZOFFSETFROM:+0200
TZOFFSETTO:+0100
TZNAME:CET
DTSTART:20251026T010000
END:STANDARD
BEGIN:DAYLIGHT
TZOFFSETFROM:+0100
TZOFFSETTO:+0200
TZNAME:CEST
DTSTART:20260329T010000
END:DAYLIGHT
BEGIN:STANDARD
TZOFFSETFROM:+0200
TZOFFSETTO:+0100
TZNAME:CET
DTSTART:20261025T010000
END:STANDARD
BEGIN:DAYLIGHT
TZOFFSETFROM:+0100
TZOFFSETTO:+0200
TZNAME:CEST
DTSTART:20270328T010000
END:DAYLIGHT
BEGIN:STANDARD
TZOFFSETFROM:+0200
TZOFFSETTO:+0100
TZNAME:CET
DTSTART:20271031T010000
END:STANDARD
END:VTIMEZONE
BEGIN:VEVENT
DTSTART;TZID=Europe/Berlin:20260522T180000
DTEND;TZID=Europe/Berlin:20260525T130000
DTSTAMP:20260423T022456
CREATED:20260321T184455Z
LAST-MODIFIED:20260321T194849Z
UID:12471-1779472800-1779714000@simone-bastian.de
SUMMARY:Eifel-Retreat in der Rotunde
DESCRIPTION:Umgeben von wunderschöner Natur\, gehalten von Stille und Achtsamkeit in einer wahrhaftigen Gruppe von Gleichgesinnten das Pfingst-Fest – das Fest der Auferstehung erleben\nEin tiefer Raum für alles\, was du immer fühlen wolltest\, aber nie konntest.\nFrei von Ablenkung\, Erwartungen und Rollen\,  geschieht Öffnung durch Präsenz: du erlaubst\, was auftaucht; ich halte dich und die Gruppe von max. 6 Menschen in der Reinheit des Fühlens. \nSo lösen sich Schichten von Anspannung\, Kontrolle und alten Geschichten durch wahrhaftiges Sein. \nDas ist die wichtigste Voraussetzung\, damit du dich in die Unendlichkeit sinken lassen kannst. \nRückzug\, Stille und Präsenz öffnen das Herz am schnellsten\nDer Alltags-Druck fällt weg und in einem geschützten\, klaren Feld wird erfahrbar: was du schon ein Leben lang suchst\, ist nicht weit weg – es war nur überdeckt von Anspannung\, Angst und innerem Festhalten. \nWenn diese Schichten weich werden\, öffnet sich etwas\, das du nicht machen kannst: Hingabe\, Frieden\, Erwachen. \nSeminarzeiten:\nFreitag\, 22.5. ab 17 Uhr Ankunft – Ankommen\, evtl. Zeltaufbau – Seminarzeiten 19-21 Uhr \nSamstag. 23.5. 10-13 Uhr\, 15-17 Uhr\, 18-19.30 Uhr – abends die Möglichkeit in die Sauna zu gehen (ist im Preis inbegriffen) \nSonntag: Zeiten wie Samstag \nMontag: 10-13 Uhr \nKosten für das Seminar ohne Übernachtung und Verpflegung (Tee und Wasser während der Seminarzeiten inbegriffen):\n420\,-€ für die 3 Tage – Frühbucher-Preis bis 19.4. 380\,-€ \nÜbernachtungsoptionen:\nDu hast verschiedene Möglichkeiten an Unterkünften im Ort und der Umgebung. Bitte selbständig darum kümmern\, wenn du zelten möchtest\, sag mir bitte Bescheid\, dann reserviere ich dir einen Platz. \nAuf dem Grundstück gibt es die Möglichkeit für 5 Zeltplätze für jeweils 15€ pro Nacht. Sanitär & Strom vorhanden.  \nEssen:\nFrühstück für die Camper kann in der Küche der Rotunde zubereitet werden – Mittag- und Abendessen selber mitbringen oder vor Ort Essen gehen – es besteht die Möglichkeit von günstigen Suppen oder Dahls (Marokkanische Küche) in der Bauernstube. \nFür Getränke während des Seminars wird gesorgt. \nHotels im Ort:\nDie Bauernstube\, ein einfach ausgestattetes gutbürgerliches Hotel mit sehr guter Küche.  \nHotel Roeb\, Familienbetrieb mit hochwertiger Ausstattung und exzellenter Küche \nPension Seeblick \n 
URL:https://simone-bastian.de/termine/eifel-retreat-in-der-rotunde/
LOCATION:Rotunde Nideggen-Schmidt\, Hubertushöhe 14\, Nideggen - Schmidt\, Nordrhein-Westfalen\, 52385\, Germany
CATEGORIES:Retreat
ATTACH;FMTTYPE=image/jpeg:https://simone-bastian.de/wp-content/uploads/2026/03/Newsletter-Rotunde.jpg
END:VEVENT
END:VCALENDAR