BEGIN:VCALENDAR
VERSION:2.0
PRODID:-//Spirituelle Mentorin für wahres Fühlen &amp; Erwachen - Simone Bastian - ECPv6.15.20//NONSGML v1.0//EN
CALSCALE:GREGORIAN
METHOD:PUBLISH
X-WR-CALNAME:Spirituelle Mentorin für wahres Fühlen &amp; Erwachen - Simone Bastian
X-ORIGINAL-URL:https://simone-bastian.de
X-WR-CALDESC:Veranstaltungen für Spirituelle Mentorin für wahres Fühlen &amp; Erwachen - Simone Bastian
REFRESH-INTERVAL;VALUE=DURATION:PT1H
X-Robots-Tag:noindex
X-PUBLISHED-TTL:PT1H
BEGIN:VTIMEZONE
TZID:Europe/Berlin
BEGIN:DAYLIGHT
TZOFFSETFROM:+0100
TZOFFSETTO:+0200
TZNAME:CEST
DTSTART:20250330T010000
END:DAYLIGHT
BEGIN:STANDARD
TZOFFSETFROM:+0200
TZOFFSETTO:+0100
TZNAME:CET
DTSTART:20251026T010000
END:STANDARD
BEGIN:DAYLIGHT
TZOFFSETFROM:+0100
TZOFFSETTO:+0200
TZNAME:CEST
DTSTART:20260329T010000
END:DAYLIGHT
BEGIN:STANDARD
TZOFFSETFROM:+0200
TZOFFSETTO:+0100
TZNAME:CET
DTSTART:20261025T010000
END:STANDARD
BEGIN:DAYLIGHT
TZOFFSETFROM:+0100
TZOFFSETTO:+0200
TZNAME:CEST
DTSTART:20270328T010000
END:DAYLIGHT
BEGIN:STANDARD
TZOFFSETFROM:+0200
TZOFFSETTO:+0100
TZNAME:CET
DTSTART:20271031T010000
END:STANDARD
END:VTIMEZONE
BEGIN:VEVENT
DTSTART;TZID=Europe/Berlin:20260106T190000
DTEND;TZID=Europe/Berlin:20260106T210000
DTSTAMP:20260424T121929
CREATED:20250731T114520Z
LAST-MODIFIED:20260112T123455Z
UID:11393-1767726000-1767733200@simone-bastian.de
SUMMARY:Raum der Stille - online Bewusstheitsgruppe
DESCRIPTION:[vc_row height=“auto“][vc_column width=“1/1″][vc_column_text] \n🌿 Raum der Stille – Online Bewusstheitsgruppe\nBewusstheitsgruppe online · spirituelle Praxis · innerer Frieden · wahres Fühlen \nDie Online-Bewusstheitsgruppe „Raum der Stille“ ist ein regelmäßiger\, geschützter Raum für Menschen\, die tiefer fühlen\, loslassen und in die innere Stille zurückfinden möchten – jenseits von Konzepten und Methoden. \nIm Raum der Stille lernst du\, ganz im Moment anzukommen und dich dem hinzugeben\, was jetzt in dir lebendig ist.Durch geführte Bewusstheitsübungen\, stilles Verweilen und fühlende Präsenz öffnet sich ein Raum\, in dem emotionale Spannungen weich werden und innere Ruhe ganz natürlich entstehen kann. \nDiese Gruppe ist offen für Menschen mit und ohne Vorerfahrung in spiritueller oder bewusster innerer Arbeit. \nDas erwartet dich: \n\n\nTieferes Wahrnehmen und wahres Fühlen ohne Druck \n\n\nLoslassen von innerem Stress\, Kontrolle und Anspannung \n\n\nRückkehr in innere Stille und Klarheit \n\n\nVerbindung im Feld bewusster Präsenz – auch online spürbar \n\n\nBegleitung durch Simone Bastian in einem sicheren\, ruhigen Raum \n\n\nOrganisatorisches:🕯 Online via Zoom⏳ Dauer: ca. 2 Stunden💶 Energieausgleich: 30 € pro Termin \nDen Ausgleich kannst Du mir direkt über diesen Link per Paypal senden: https://www.paypal.com/paypalme/WegezurStille \nAnmeldung und Treffen\nDie Online Bewusstheitsgruppe  trifft sich 2x im Monat dienstags um 19:00 Uhr per Zoom. Die Teilnahme erfordert keine Anmeldung oder Vorkenntnisse – jeder\, der sich auf eine Reise der inneren Erkundung begeben möchte\, ist herzlich willkommen. \nHier findest Du den Link zum Zoom Meeting: https://us02web.zoom.us/j/88222511223 \nGerne kannst Du auch meinem Telegram Kanal beitreten\, hier bleibst Du immer auf dem Laufenden:\nhttps://t.me/WegezurStille \nWillst Du lieber per E-Mail Informationen erhalten\, dann trag´dich am besten in den Newsletter ein:\nhttps://simone-bastian.de/#newsletter[/vc_column_text][/vc_column][/vc_row]
URL:https://simone-bastian.de/termine/online-bewusstheitsgruppe/
CATEGORIES:Bewusstheitsgruppe,Online Termine
ATTACH;FMTTYPE=image/jpeg:https://simone-bastian.de/wp-content/uploads/2025/07/Termine-Bewusstheitsgruppe-Webseite.jpg
END:VEVENT
BEGIN:VEVENT
DTSTART;TZID=Europe/Berlin:20260107T211500
DTEND;TZID=Europe/Berlin:20260107T214500
DTSTAMP:20260424T121929
CREATED:20250802T105237Z
LAST-MODIFIED:20250802T105237Z
UID:11429-1767820500-1767822300@simone-bastian.de
SUMMARY:live-Meditation "Innerer Frieden jetzt" - jeden Mittwoch
DESCRIPTION:[vc_row][vc_column][vc_column_text] \n🌿 Wöchentliche Live-Meditation auf YouTube\nKostenfreie Meditation & Stille – jeden Mittwoch um 21:15 Uhr \nJeden Mittwoch begleite ich dich kostenfrei in einer 30-minütigen Live-Meditation auf YouTube.Diese Meditation ist kein Techniktraining und kein „Besser-werden-Wollen“. \nDu darfst einfach da sein. \nIn einem stillen\, achtsamen Raum lade ich dich ein\,zur Ruhe zu kommen\,deine Gefühle wahrzunehmenund das Loslassen geschehen zu lassen\, ohne Anstrengung\, ohne Ziel. \nDiese wöchentliche Meditation unterstützt dich dabei\,dein Nervensystem zu beruhigen\,inneren Frieden zu findenund dich wieder mit dem zu verbinden\, was du in Wahrheit bist. \n📍 Wann: jeden Mittwoch\, 21:15 Uhr⏳ Dauer: ca. 30 Minuten💛 Kostenfrei & offen für alle \nKomme einfach auf meinen Youtube-Kanal und folge der Live-Meditation:  \nhttps://www.youtube.com/@simonebastian-ganzduselbst4466[/vc_column_text][/vc_column][/vc_row]
URL:https://simone-bastian.de/termine/live-meditation/
CATEGORIES:live-Meditation
ATTACH;FMTTYPE=image/jpeg:https://simone-bastian.de/wp-content/uploads/2025/07/Termine-live-Meditation-Webseite.jpg
END:VEVENT
BEGIN:VEVENT
DTSTART;TZID=Europe/Berlin:20260116T180000
DTEND;TZID=Europe/Berlin:20260116T210000
DTSTAMP:20260424T121929
CREATED:20251217T213744Z
LAST-MODIFIED:20260114T134032Z
UID:11922-1768586400-1768597200@simone-bastian.de
SUMMARY:Raum der Stille Köln - Bewusstheitsgruppe
DESCRIPTION:[vc_row height=“auto“][vc_column width=“1/1″][vc_column_text] \n🌿 Raum der Stille – Live Bewusstheitsgruppe in Köln\nBewusstheitsgruppe Köln · spirituelle Gruppenarbeit · innere Stille · bewusstes Erwachen \nDie Live-Bewusstheitsgruppe „Raum der Stille“ in Köln ist ein intensiver Präsenzraum für Menschen\, die sich nach Tiefe\, Wahrhaftigkeit und innerem Frieden sehnen. \nIn der Live-Gruppe vertieft sich die Arbeit durch die gemeinsame Präsenz im Raum.Wir folgen keinem festen Konzept\, sondern dem\, was sich im Moment zeigen möchte – über Fühlen\, Stille\, bewusste Körperwahrnehmung und echtes Dasein. \nDiese Gruppe eignet sich besonders für Menschen\, die ihre spirituelle Praxis verkörpern und den Weg des Erwachens im Miteinander erforschen möchten. \nDas erwartet dich: \n\n\nTiefe Präsenzarbeit in der Gruppe \n\n\nRaum für Gefühle\, Stille und innere Prozesse \n\n\nLösung emotionaler Blockaden durch bewusstes Fühlen \n\n\nErdung\, Klarheit und innere Sicherheit \n\n\nAuthentische Begegnung im geschützten Rahmen \n\n\nOrganisatorisches:📍 Live in Köln⏳ Dauer: ca. 3 Stunden💶 Energieausgleich: 40 € pro Termin \nGerne kannst Du auch meinem Telegram Kanal beitreten\, hier bleibst Du immer auf dem Laufenden:\nhttps://t.me/WegezurStille \nWillst Du lieber per E-Mail Informationen erhalten\, dann trag´dich am besten in den Newsletter ein:\nhttps://simone-bastian.de/#newsletter[/vc_column_text][/vc_column][/vc_row]
URL:https://simone-bastian.de/termine/koeln-bewusstheitsgruppe-2/
CATEGORIES:Bewusstheitsgruppe,Online Termine
ATTACH;FMTTYPE=image/jpeg:https://simone-bastian.de/wp-content/uploads/2025/12/Alma-Calma.jpg
END:VEVENT
BEGIN:VEVENT
DTSTART;TZID=Europe/Berlin:20260118T110000
DTEND;TZID=Europe/Berlin:20260118T180000
DTSTAMP:20260424T121929
CREATED:20251203T201009Z
LAST-MODIFIED:20251203T201009Z
UID:11813-1768734000-1768759200@simone-bastian.de
SUMMARY:Stilles Familienstellen - live in Aachen
DESCRIPTION:[vc_row width=“full“ height=“auto“][vc_column][vc_column_text] \n🌿 Stilles Familienstellen\nFamilienstellen · systemische Aufstellungen · emotionale Heilung · Ahnenarbeit \nBeim Stillen Familienstellen werden unbewusste Dynamiken und Verstrickungen innerhalb von Familie\, Herkunftssystem oder Beruf sichtbar – in einem Feld von Präsenz\, Stille und Mitgefühl. \nDurch das stille\, fühlende Aufstellen können sich tiefe innere Bewegungen zeigen\, ohne dramatische Inszenierung.Gefühle dürfen auftauchen\, ausklingen und integriert werden. So entsteht Raum für Versöhnung\, Klärung und neue innere Ordnung. \nDas stille Familienstellen wirkt auf einer tiefen seelischen Ebene und ermöglicht nachhaltige Veränderung – nicht durch Analyse\, sondern durch Erleben. \nDas ermöglicht diese Arbeit: \n\n\nSichtbarmachen unbewusster systemischer Dynamiken \n\n\nLösung alter Bindungen und Loyalitäten \n\n\nMehr innere Freiheit und Eigenständigkeit \n\n\nVersöhnung mit Herkunft und Lebensgeschichte \n\n\nSpürbare Erleichterung und seelisches Aufatmen \n\n\nEnergieausgleich: 160 € \n[/vc_column_text][/vc_column][/vc_row][vc_row][vc_column width=“1/1″][us_sharing providers=“email\,facebook\,whatsapp\,telegram“][/vc_column][/vc_row]
URL:https://simone-bastian.de/termine/stilles-familienstellen-live-in-aachen/
CATEGORIES:Familienaufstellung,Retreat
ATTACH;FMTTYPE=image/jpeg:https://simone-bastian.de/wp-content/uploads/2025/07/Termine-Familienstellen-Webseite.jpg
END:VEVENT
BEGIN:VEVENT
DTSTART;TZID=Europe/Berlin:20260120T190000
DTEND;TZID=Europe/Berlin:20260120T210000
DTSTAMP:20260424T121929
CREATED:20251217T201106Z
LAST-MODIFIED:20260120T173745Z
UID:11894-1768935600-1768942800@simone-bastian.de
SUMMARY:Raum der Stille - online Bewusstheitsgruppe
DESCRIPTION:Raum der Stille – Online Bewusstheitsgruppe\nBewusstheitsgruppe online · spirituelle Praxis · innerer Frieden · wahres Fühlen \nDie Online-Bewusstheitsgruppe „Raum der Stille“ ist ein regelmäßiger\, geschützter Raum für Menschen\, die tiefer fühlen\, loslassen und in die innere Stille zurückfinden möchten – jenseits von Konzepten und Methoden. \nIm Raum der Stille lernst du\, ganz im Moment anzukommen und dich dem hinzugeben\, was jetzt in dir lebendig ist.Durch geführte Bewusstheitsübungen\, stilles Verweilen und fühlende Präsenz öffnet sich ein Raum\, in dem emotionale Spannungen weich werden und innere Ruhe ganz natürlich entstehen kann. \nDiese Gruppe ist offen für Menschen mit und ohne Vorerfahrung in spiritueller oder bewusster innerer Arbeit. \nDas erwartet dich: \n\n\nTieferes Wahrnehmen und wahres Fühlen ohne Druck \n\n\nLoslassen von innerem Stress\, Kontrolle und Anspannung \n\n\nRückkehr in innere Stille und Klarheit \n\n\nVerbindung im Feld bewusster Präsenz – auch online spürbar \n\n\nBegleitung durch Simone Bastian in einem sicheren\, ruhigen Raum \n\n\nOrganisatorisches:Online via Zoom\nDauer: ca. 2 StundenEnergieausgleich: 30 € pro Termin \nDen Ausgleich kannst Du mir direkt über diesen Link per Paypal senden: https://www.paypal.com/paypalme/WegezurStille \nAnmeldung und Treffen\nDie Online Bewusstheitsgruppe  trifft sich 2x im Monat dienstags um 19:00 Uhr per Zoom. Die Teilnahme erfordert keine Anmeldung oder Vorkenntnisse – jeder\, der sich auf eine Reise der inneren Erkundung begeben möchte\, ist herzlich willkommen. \nHier findest Du den Link zum Zoom Meeting: https://us02web.zoom.us/j/88222511223 \nGerne kannst Du auch meinem Telegram Kanal beitreten\, hier bleibst Du immer auf dem Laufenden:\nhttps://t.me/WegezurStille \nWillst Du lieber per E-Mail Informationen erhalten\, dann trag´dich am besten in den Newsletter ein:\nhttps://simone-bastian.de/#newsletter
URL:https://simone-bastian.de/termine/raum-der-stille-online-bewusstheitsgruppe/
CATEGORIES:Bewusstheitsgruppe,Online Termine
ATTACH;FMTTYPE=image/jpeg:https://simone-bastian.de/wp-content/uploads/2025/07/Termine-Bewusstheitsgruppe-Webseite.jpg
END:VEVENT
BEGIN:VEVENT
DTSTART;TZID=Europe/Berlin:20260121T211500
DTEND;TZID=Europe/Berlin:20260121T214500
DTSTAMP:20260424T121929
CREATED:20251203T191414Z
LAST-MODIFIED:20260120T202250Z
UID:11783-1769030100-1769031900@simone-bastian.de
SUMMARY:live-Meditation "Innerer Frieden jetzt" - jeden Mittwoch
DESCRIPTION:Ich begleite dich jeden Mittwoch ab 21.15 Uhr kostenfrei eine halbe Stunde live auf Youtube: \nSei am besten regelmäßig dabei und finde wahren inneren Frieden JETZT \nDu musst nicht anders sein\, du musst nichts verändern\, du musst nichts tun! \nSei dabei und erfahre\, wie das wahre Loslassen dein Leben Stück für Stück zu mehr Frieden\, \nFreiheit\, Liebe und Verbundenheit verändert! \nIch freue mich auf dich! \nKomme einfach auf meinen Youtube-Kanal und folge der Live-Meditation:  \nhttps://www.youtube.com/@simonebastian-ganzduselbst4466
URL:https://simone-bastian.de/termine/live-meditation-innerer-frieden-jetzt-jeden-mittwoch-2/
CATEGORIES:live-Meditation
ATTACH;FMTTYPE=image/jpeg:https://simone-bastian.de/wp-content/uploads/2024/12/Thumbnail-live-Meditation.jpg
END:VEVENT
BEGIN:VEVENT
DTSTART;TZID=Europe/Berlin:20260128T211500
DTEND;TZID=Europe/Berlin:20260128T214500
DTSTAMP:20260424T121929
CREATED:20251203T191439Z
LAST-MODIFIED:20260120T202258Z
UID:11782-1769634900-1769636700@simone-bastian.de
SUMMARY:live-Meditation "Innerer Frieden jetzt" - jeden Mittwoch
DESCRIPTION:Ich begleite dich jeden Mittwoch ab 21.15 Uhr kostenfrei eine halbe Stunde live auf Youtube: \nSei am besten regelmäßig dabei und finde wahren inneren Frieden JETZT \nDu musst nicht anders sein\, du musst nichts verändern\, du musst nichts tun! \nSei dabei und erfahre\, wie das wahre Loslassen dein Leben Stück für Stück zu mehr Frieden\, \nFreiheit\, Liebe und Verbundenheit verändert! \nIch freue mich auf dich! \nKomme einfach auf meinen Youtube-Kanal und folge der Live-Meditation:  \nhttps://www.youtube.com/@simonebastian-ganzduselbst4466
URL:https://simone-bastian.de/termine/live-meditation-innerer-frieden-jetzt-jeden-mittwoch-3/
CATEGORIES:live-Meditation
ATTACH;FMTTYPE=image/jpeg:https://simone-bastian.de/wp-content/uploads/2024/12/Thumbnail-live-Meditation.jpg
END:VEVENT
END:VCALENDAR