BEGIN:VCALENDAR
VERSION:2.0
PRODID:-//Spirituelle Mentorin für wahres Fühlen &amp; Erwachen - Simone Bastian - ECPv6.15.20//NONSGML v1.0//EN
CALSCALE:GREGORIAN
METHOD:PUBLISH
X-ORIGINAL-URL:https://simone-bastian.de
X-WR-CALDESC:Veranstaltungen für Spirituelle Mentorin für wahres Fühlen &amp; Erwachen - Simone Bastian
REFRESH-INTERVAL;VALUE=DURATION:PT1H
X-Robots-Tag:noindex
X-PUBLISHED-TTL:PT1H
BEGIN:VTIMEZONE
TZID:Europe/Berlin
BEGIN:DAYLIGHT
TZOFFSETFROM:+0100
TZOFFSETTO:+0200
TZNAME:CEST
DTSTART:20250330T010000
END:DAYLIGHT
BEGIN:STANDARD
TZOFFSETFROM:+0200
TZOFFSETTO:+0100
TZNAME:CET
DTSTART:20251026T010000
END:STANDARD
BEGIN:DAYLIGHT
TZOFFSETFROM:+0100
TZOFFSETTO:+0200
TZNAME:CEST
DTSTART:20260329T010000
END:DAYLIGHT
BEGIN:STANDARD
TZOFFSETFROM:+0200
TZOFFSETTO:+0100
TZNAME:CET
DTSTART:20261025T010000
END:STANDARD
BEGIN:DAYLIGHT
TZOFFSETFROM:+0100
TZOFFSETTO:+0200
TZNAME:CEST
DTSTART:20270328T010000
END:DAYLIGHT
BEGIN:STANDARD
TZOFFSETFROM:+0200
TZOFFSETTO:+0100
TZNAME:CET
DTSTART:20271031T010000
END:STANDARD
END:VTIMEZONE
BEGIN:VEVENT
DTSTART;TZID=Europe/Berlin:20260203T190000
DTEND;TZID=Europe/Berlin:20260203T210000
DTSTAMP:20260423T011955
CREATED:20251217T201156Z
LAST-MODIFIED:20260120T173926Z
UID:11896-1770145200-1770152400@simone-bastian.de
SUMMARY:Raum der Stille - online Bewusstheitsgruppe
DESCRIPTION:Raum der Stille – Online Bewusstheitsgruppe\nBewusstheitsgruppe online · spirituelle Praxis · innerer Frieden · wahres Fühlen \nDie Online-Bewusstheitsgruppe „Raum der Stille“ ist ein regelmäßiger\, geschützter Raum für Menschen\, die tiefer fühlen\, loslassen und in die innere Stille zurückfinden möchten – jenseits von Konzepten und Methoden. \nIm Raum der Stille lernst du\, ganz im Moment anzukommen und dich dem hinzugeben\, was jetzt in dir lebendig ist.Durch geführte Bewusstheitsübungen\, stilles Verweilen und fühlende Präsenz öffnet sich ein Raum\, in dem emotionale Spannungen weich werden und innere Ruhe ganz natürlich entstehen kann. \nDiese Gruppe ist offen für Menschen mit und ohne Vorerfahrung in spiritueller oder bewusster innerer Arbeit. \nDas erwartet dich: \n\n\nTieferes Wahrnehmen und wahres Fühlen ohne Druck \n\n\nLoslassen von innerem Stress\, Kontrolle und Anspannung \n\n\nRückkehr in innere Stille und Klarheit \n\n\nVerbindung im Feld bewusster Präsenz – auch online spürbar \n\n\nBegleitung durch Simone Bastian in einem sicheren\, ruhigen Raum \n\n\nOrganisatorisches:Online via ZoomDauer: ca. 2 StundenEnergieausgleich: 30 € pro Termin \nDen Ausgleich kannst Du mir direkt über diesen Link per Paypal senden: https://www.paypal.com/paypalme/WegezurStille \nAnmeldung und Treffen\nDie Online Bewusstheitsgruppe  trifft sich 2x im Monat dienstags um 19:00 Uhr per Zoom. Die Teilnahme erfordert keine Anmeldung oder Vorkenntnisse – jeder\, der sich auf eine Reise der inneren Erkundung begeben möchte\, ist herzlich willkommen. \nHier findest Du den Link zum Zoom Meeting: https://us02web.zoom.us/j/88222511223 \nGerne kannst Du auch meinem Telegram Kanal beitreten\, hier bleibst Du immer auf dem Laufenden:\nhttps://t.me/WegezurStille \nWillst Du lieber per E-Mail Informationen erhalten\, dann trag´dich am besten in den Newsletter ein:\nhttps://simone-bastian.de/#newsletter
URL:https://simone-bastian.de/termine/raum-der-stille-online-bewusstheitsgruppe-2/
CATEGORIES:Bewusstheitsgruppe,Online Termine
ATTACH;FMTTYPE=image/jpeg:https://simone-bastian.de/wp-content/uploads/2025/07/Termine-Bewusstheitsgruppe-Webseite.jpg
END:VEVENT
BEGIN:VEVENT
DTSTART;TZID=Europe/Berlin:20260204T211500
DTEND;TZID=Europe/Berlin:20260204T214500
DTSTAMP:20260423T011955
CREATED:20251203T191507Z
LAST-MODIFIED:20260109T192918Z
UID:11781-1770239700-1770241500@simone-bastian.de
SUMMARY:live-Meditation "Innerer Frieden jetzt" - jeden Mittwoch
DESCRIPTION:Ich begleite dich jeden Mittwoch ab 21.15 Uhr kostenfrei eine halbe Stunde live auf Youtube: \nSei am besten regelmäßig dabei und finde wahren inneren Frieden JETZT \nDu musst nicht anders sein\, du musst nichts verändern\, du musst nichts tun! \nSei dabei und erfahre\, wie das wahre Loslassen dein Leben Stück für Stück zu mehr Frieden\, \nFreiheit\, Liebe und Verbundenheit verändert! \nIch freue mich auf dich! \nKomme einfach auf meinen Youtube-Kanal und folge der Live-Meditation:  \nhttps://www.youtube.com/@simonebastian-ganzduselbst4466
URL:https://simone-bastian.de/termine/live-meditation-innerer-frieden-jetzt-jeden-mittwoch-4/
CATEGORIES:live-Meditation,Online Termine
ATTACH;FMTTYPE=image/jpeg:https://simone-bastian.de/wp-content/uploads/2024/12/Thumbnail-live-Meditation.jpg
END:VEVENT
BEGIN:VEVENT
DTSTART;TZID=Europe/Berlin:20260206T180000
DTEND;TZID=Europe/Berlin:20260206T210000
DTSTAMP:20260423T011955
CREATED:20251217T213837Z
LAST-MODIFIED:20260203T170741Z
UID:11924-1770400800-1770411600@simone-bastian.de
SUMMARY:Raum der Stille Köln - Bewusstheitsgruppe
DESCRIPTION:[vc_row height=“auto“][vc_column width=“1/1″][vc_column_text] \n🌿 Raum der Stille – Live Bewusstheitsgruppe in Köln\nBewusstheitsgruppe Köln · spirituelle Gruppenarbeit · innere Stille · bewusstes Erwachen \nDie Live-Bewusstheitsgruppe „Raum der Stille“ in Köln ist ein intensiver Präsenzraum für Menschen\, die sich nach Tiefe\, Wahrhaftigkeit und innerem Frieden sehnen. \nIn der Live-Gruppe vertieft sich die Arbeit durch die gemeinsame Präsenz im Raum.Wir folgen keinem festen Konzept\, sondern dem\, was sich im Moment zeigen möchte – über Fühlen\, Stille\, bewusste Körperwahrnehmung und echtes Dasein. \nDiese Gruppe eignet sich besonders für Menschen\, die ihre spirituelle Praxis verkörpern und den Weg des Erwachens im Miteinander erforschen möchten. \nDas erwartet dich: \n\n\nTiefe Präsenzarbeit in der Gruppe \n\n\nRaum für Gefühle\, Stille und innere Prozesse \n\n\nLösung emotionaler Blockaden durch bewusstes Fühlen \n\n\nErdung\, Klarheit und innere Sicherheit \n\n\nAuthentische Begegnung im geschützten Rahmen \n\n\nOrganisatorisches:📍 Live in Köln⏳ Dauer: ca. 3 Stunden💶 Energieausgleich: 40 € pro Termin \nGerne kannst Du auch meinem Telegram Kanal beitreten\, hier bleibst Du immer auf dem Laufenden:\nhttps://t.me/WegezurStille \nWillst Du lieber per E-Mail Informationen erhalten\, dann trag´dich am besten in den Newsletter ein:\nhttps://simone-bastian.de/#newsletter[/vc_column_text][/vc_column][/vc_row]
URL:https://simone-bastian.de/termine/koeln-bewusstheitsgruppe-3/
CATEGORIES:Bewusstheitsgruppe,Köln
ATTACH;FMTTYPE=image/jpeg:https://simone-bastian.de/wp-content/uploads/2025/12/Alma-Calma.jpg
END:VEVENT
BEGIN:VEVENT
DTSTART;TZID=Europe/Berlin:20260210T190000
DTEND;TZID=Europe/Berlin:20260210T210000
DTSTAMP:20260423T011955
CREATED:20251217T201308Z
LAST-MODIFIED:20260203T170748Z
UID:11898-1770750000-1770757200@simone-bastian.de
SUMMARY:Raum der Stille - online Bewusstheitsgruppe
DESCRIPTION:Raum der Stille – Online Bewusstheitsgruppe\nBewusstheitsgruppe online · spirituelle Praxis · innerer Frieden · wahres Fühlen \nDie Online-Bewusstheitsgruppe „Raum der Stille“ ist ein regelmäßiger\, geschützter Raum für Menschen\, die tiefer fühlen\, loslassen und in die innere Stille zurückfinden möchten – jenseits von Konzepten und Methoden. \nIm Raum der Stille lernst du\, ganz im Moment anzukommen und dich dem hinzugeben\, was jetzt in dir lebendig ist.Durch geführte Bewusstheitsübungen\, stilles Verweilen und fühlende Präsenz öffnet sich ein Raum\, in dem emotionale Spannungen weich werden und innere Ruhe ganz natürlich entstehen kann. \nDiese Gruppe ist offen für Menschen mit und ohne Vorerfahrung in spiritueller oder bewusster innerer Arbeit. \nDas erwartet dich: \n\n\nTieferes Wahrnehmen und wahres Fühlen ohne Druck \n\n\nLoslassen von innerem Stress\, Kontrolle und Anspannung \n\n\nRückkehr in innere Stille und Klarheit \n\n\nVerbindung im Feld bewusster Präsenz – auch online spürbar \n\n\nBegleitung durch Simone Bastian in einem sicheren\, ruhigen Raum \n\n\nOrganisatorisches:Online via Zoom\nDauer: ca. 2 StundenEnergieausgleich: 30 € pro Termin \nDen Ausgleich kannst Du mir direkt über diesen Link per Paypal senden: https://www.paypal.com/paypalme/WegezurStille \nAnmeldung und Treffen\nDie Online Bewusstheitsgruppe  trifft sich 2x im Monat dienstags um 19:00 Uhr per Zoom. Die Teilnahme erfordert keine Anmeldung oder Vorkenntnisse – jeder\, der sich auf eine Reise der inneren Erkundung begeben möchte\, ist herzlich willkommen. \nHier findest Du den Link zum Zoom Meeting: https://us02web.zoom.us/j/88222511223 \nGerne kannst Du auch meinem Telegram Kanal beitreten\, hier bleibst Du immer auf dem Laufenden:\nhttps://t.me/WegezurStille \nWillst Du lieber per E-Mail Informationen erhalten\, dann trag´dich am besten in den Newsletter ein:\nhttps://simone-bastian.de/#newsletter
URL:https://simone-bastian.de/termine/raum-der-stille-online-bewusstheitsgruppe-3/
CATEGORIES:Bewusstheitsgruppe,Online Termine
ATTACH;FMTTYPE=image/jpeg:https://simone-bastian.de/wp-content/uploads/2025/07/Termine-Bewusstheitsgruppe-Webseite.jpg
END:VEVENT
BEGIN:VEVENT
DTSTART;TZID=Europe/Berlin:20260211T193000
DTEND;TZID=Europe/Berlin:20260211T210000
DTSTAMP:20260423T011955
CREATED:20260203T170608Z
LAST-MODIFIED:20260203T170758Z
UID:12441-1770838200-1770843600@simone-bastian.de
SUMMARY:Kostenfreier Online-Infoabend zur Heimkommen-Gruppe ab März
DESCRIPTION:  \n  \n  \n\n\n\n\n\n\n\n\n\n\n\nErlebe\, wie es sich anfühlt\, deine eigene innere Warheit wieder ernster zu nehmen. Du bekommst ein erstes\, sehr konkretes Gefühl dafür\, wie Wahrhaftigkeit im Körper spürbar wird. \nMehr Klarheit für echte Entscheidungen\nDu nimmst einen inneren Impuls mit\, der dir hilft\, in den nächsten Tagen eine  stimmige Grenze zu setzen oder ein klares Nein zu fühlen. \n\nSpirituell wachsen – ohne dich vom Leben abzukoppeln\n\n\nDu bekommst einen neuen Zugang dazu\,wie du deinem spirituellen Weg folgen kannst\, ohne dir selbst auszuweichen. \n\nFür wen dieser Info-Abend genau richtig ist\n\nwenn du spirituell wachsen möchtest\, ohne dich vom irdischen Leben zu entkoppeln\n\nwenn du bereit bist\, dir selbst ehrlich zu begegnen und deiner eigenen Wahrheit zu folgen\nwenn du müde bist\, immer neuen Methoden\, Konzepten oder Impulsen hinterherzurennen
URL:https://simone-bastian.de/termine/kostenfreier-online-infoabend-zur-heimkommen-gruppe-ab-maerz/
LOCATION:Online via Zoom
CATEGORIES:Jahresgruppe,Online Termine
ATTACH;FMTTYPE=image/jpeg:https://simone-bastian.de/wp-content/uploads/2025/07/Heimkommen-Gruppe-scaled-1.jpg
END:VEVENT
BEGIN:VEVENT
DTSTART;TZID=Europe/Berlin:20260214T100000
DTEND;TZID=Europe/Berlin:20260215T160000
DTSTAMP:20260423T011955
CREATED:20251203T210639Z
LAST-MODIFIED:20260120T174848Z
UID:11819-1771063200-1771171200@simone-bastian.de
SUMMARY:Stilles Familienstellen und Atembefreiung - live in Hamburg
DESCRIPTION:Ich freue mich sehr\, dieses Seminar zusammen mit meiner Kollegin Ose Junker aus Hamburg anzuleiten. \nTag 1 – Stilles Familienstellen – 10-18 Uhr \nIn achtsamer Stille öffnen wir einen Raum\, in dem sich Verstrickungen und alte Bindungen zeigen dürfen – ohne viele Worte\, ohne Analyse. \nAus dieser Tiefe entstehen neue innere Bilder und Lösungen\, die nachhaltiger wirken als lange Gespräche. Hier können sich Themen wie Beziehung\, Gesundheit\, Beruf\, innere Blockaden oder wiederkehrende Muster in heilsamer Klarheit ordnen. \nMit Hilfe des Familienstellenstellens werden Unordnungen innerhalb des Systems offenkundig und eine heilsame Bewegung wird angestoßen. \nSo werden Versöhnung und Lösung möglich und lassen die Seele wieder aufatmen – die Liebe kann wieder fließen. \nTag 2 – Atembefreiung – 10-16 Uhr \nMit der Methode der verbundenen Atmung vertiefen wir das Erlebte. \nDie Atemarbeit öffnet einen Zugang zu deinem Körpergedächtnis und deiner Seele – dort\, wo Worte oft nicht mehr hinreichen. \nBlockierte Energie darf ins Fließen kommen\, unterdrückte Gefühle dürfen sich lösen\, Heilung geschieht auf einer anderen Ebene. \nSo wird das am ersten Tag Erfahrene nicht nur verstanden\, sondern auch verkörpert und integriert. \nie Seminare führen alle Teilnehmer auf eine tiefgreifende Veränderungs-Reise\, bei der wir uns von den wesentlichen Bewegungen des Lebens führen lassen. \nWir arbeiten auf vielfältige Weise mit allen Teilnehmern\, so dass jeder inspiriert und positiv verändert nach Hause geht. \nEs handelt sich um eine intensive und äußerst verdichtete Arbeit mit jedem Einzelnen und der ganzen Gruppe. \nDeine Wertschätzung für diesen Tag beträgt 260\,-€ \n[/vc_column_text][/vc_column][/vc_row][vc_row][vc_column width=“1/1″][us_sharing providers=“email\,facebook\,whatsapp\,telegram“][/vc_column][/vc_row]
URL:https://simone-bastian.de/termine/stilles-familienstellen-und-atembefreiung-live-in-hamburg/
CATEGORIES:Familienaufstellung,Retreat
ATTACH;FMTTYPE=image/jpeg:https://simone-bastian.de/wp-content/uploads/2025/12/YogaraumOttensen-scaled-1.jpeg
END:VEVENT
END:VCALENDAR